BEGIN:VCALENDAR
VERSION:2.0
PRODID:-//FSSPX Hrvatska - ECPv6.11.2//NONSGML v1.0//EN
CALSCALE:GREGORIAN
METHOD:PUBLISH
X-WR-CALNAME:FSSPX Hrvatska
X-ORIGINAL-URL:https://fsspx.hr
X-WR-CALDESC:Events for FSSPX Hrvatska
REFRESH-INTERVAL;VALUE=DURATION:PT1H
X-Robots-Tag:noindex
X-PUBLISHED-TTL:PT1H
BEGIN:VTIMEZONE
TZID:Europe/Zagreb
BEGIN:DAYLIGHT
TZOFFSETFROM:+0100
TZOFFSETTO:+0200
TZNAME:CEST
DTSTART:20260329T010000
END:DAYLIGHT
BEGIN:STANDARD
TZOFFSETFROM:+0200
TZOFFSETTO:+0100
TZNAME:CET
DTSTART:20261025T010000
END:STANDARD
END:VTIMEZONE
BEGIN:VEVENT
DTSTART;TZID=Europe/Zagreb:20260419T000000
DTEND;TZID=Europe/Zagreb:20260425T235959
DTSTAMP:20260421T115137
CREATED:20241230T174123Z
LAST-MODIFIED:20260112T202630Z
UID:11051-1776556800-1777161599@fsspx.hr
SUMMARY:Ignacijanske duhovne vježbe - muškarci
DESCRIPTION:Duhovne vježbe sastoje se od nagovora\, razmatranja\, sv. Misa i molitve u tišini da bismo spoznali Božju volju i donijeli prave odluke za naš kršćanski život. \n\n\n\n \n\n\n\nPrimjer dnevnog rasporeda možete pogledati ovdje.
URL:https://fsspx.hr/dogadaj/ignacijanske-duhovne-vjezbe/
LOCATION:Dvorac Jaidhof\, Jaidhof 1\, Gföhl\, Jaidfof\, Austria
CATEGORIES:Duhovne vježbe/obnova
ATTACH;FMTTYPE=image/webp:https://fsspx.hr/wp-content/uploads/2024/12/Ignacijanske-duh.-vjezbe.webp
END:VEVENT
END:VCALENDAR