BEGIN:VCALENDAR
VERSION:2.0
PRODID:-//FSSPX Hrvatska - ECPv6.11.2//NONSGML v1.0//EN
CALSCALE:GREGORIAN
METHOD:PUBLISH
X-WR-CALNAME:FSSPX Hrvatska
X-ORIGINAL-URL:https://fsspx.hr
X-WR-CALDESC:Events for FSSPX Hrvatska
REFRESH-INTERVAL;VALUE=DURATION:PT1H
X-Robots-Tag:noindex
X-PUBLISHED-TTL:PT1H
BEGIN:VTIMEZONE
TZID:Europe/Zagreb
BEGIN:DAYLIGHT
TZOFFSETFROM:+0100
TZOFFSETTO:+0200
TZNAME:CEST
DTSTART:20260329T010000
END:DAYLIGHT
BEGIN:STANDARD
TZOFFSETFROM:+0200
TZOFFSETTO:+0100
TZNAME:CET
DTSTART:20261025T010000
END:STANDARD
END:VTIMEZONE
BEGIN:VEVENT
DTSTART;TZID=Europe/Zagreb:20260630T000000
DTEND;TZID=Europe/Zagreb:20260702T235959
DTSTAMP:20260423T163803
CREATED:20260213T181144Z
LAST-MODIFIED:20260213T181144Z
UID:13857-1782777600-1783036799@fsspx.hr
SUMMARY:Biskupska posvećenja (1. 7. 2026.)
DESCRIPTION:Svećeničko bratstvo sv. Pija X. organizira sudjelovanje na biskupskim posvećenjima ove godine u Ecôneu.Pridružite nam se na ovom povijesnom događaju za očuvanje Tradicije i svećeništva\, nužnih za obnovu katoličke vjere u današnjem vremenu!DETALJNE INFORMACIJE I PRIJAVE: fsspxhr@gmail.com
URL:https://fsspx.hr/dogadaj/biskupska-posvecenja-1-7-2026/
LOCATION:Međunarodna bogoslovija sv. Pija X.\, Ecône\, Chem. du Séminaire 5\, Riddes\, 1908\, Switzerland
ATTACH;FMTTYPE=image/jpeg:https://fsspx.hr/wp-content/uploads/2026/02/biskupska-posvecenja.jpg
END:VEVENT
END:VCALENDAR