BEGIN:VCALENDAR
VERSION:2.0
PRODID:-//FSSPX Hrvatska - ECPv6.11.2//NONSGML v1.0//EN
CALSCALE:GREGORIAN
METHOD:PUBLISH
X-WR-CALNAME:FSSPX Hrvatska
X-ORIGINAL-URL:https://fsspx.hr
X-WR-CALDESC:Events for FSSPX Hrvatska
REFRESH-INTERVAL;VALUE=DURATION:PT1H
X-Robots-Tag:noindex
X-PUBLISHED-TTL:PT1H
BEGIN:VTIMEZONE
TZID:Europe/Zagreb
BEGIN:DAYLIGHT
TZOFFSETFROM:+0100
TZOFFSETTO:+0200
TZNAME:CEST
DTSTART:20250330T010000
END:DAYLIGHT
BEGIN:STANDARD
TZOFFSETFROM:+0200
TZOFFSETTO:+0100
TZNAME:CET
DTSTART:20251026T010000
END:STANDARD
BEGIN:DAYLIGHT
TZOFFSETFROM:+0100
TZOFFSETTO:+0200
TZNAME:CEST
DTSTART:20260329T010000
END:DAYLIGHT
BEGIN:STANDARD
TZOFFSETFROM:+0200
TZOFFSETTO:+0100
TZNAME:CET
DTSTART:20261025T010000
END:STANDARD
END:VTIMEZONE
BEGIN:VEVENT
DTSTART;TZID=Europe/Zagreb:20260523T000000
DTEND;TZID=Europe/Zagreb:20260525T235900
DTSTAMP:20260423T222533
CREATED:20260209T173259Z
LAST-MODIFIED:20260305T220243Z
UID:13758-1779494400-1779753540@fsspx.hr
SUMMARY:Duhovsko hodočašće Chartres - Pariz
DESCRIPTION:Svećeničko bratstvo sv. Pija X. ove godine organizira sudjelovanje na velikom hodočašću Chartres – Pariz. Pridružite nam se na ovom hodočašću Tradicije moleći i prikazujući žrtve za nakane Crkve i svoje osobne nakane!Više o ovom hodočašću možete pročitati na službenim stranicama: https://www.pelerinagesdetradition.com/chartres/infos-pratiques/dates-et-parcours/Dodatne informacije i prijave za hodočasnike iz Hrvatske: fsspxhr@gmail.com
URL:https://fsspx.hr/dogadaj/duhovsko-hodocasce-chartres-pariz/
ATTACH;FMTTYPE=image/jpeg:https://fsspx.hr/wp-content/uploads/2026/02/Snimka-zaslona-2026-02-08-225351.jpg
END:VEVENT
BEGIN:VEVENT
DTSTART;TZID=Europe/Zagreb:20260419T000000
DTEND;TZID=Europe/Zagreb:20260425T235959
DTSTAMP:20260423T222533
CREATED:20241230T174123Z
LAST-MODIFIED:20260112T202630Z
UID:11051-1776556800-1777161599@fsspx.hr
SUMMARY:Ignacijanske duhovne vježbe - muškarci
DESCRIPTION:Duhovne vježbe sastoje se od nagovora\, razmatranja\, sv. Misa i molitve u tišini da bismo spoznali Božju volju i donijeli prave odluke za naš kršćanski život. \n\n\n\n \n\n\n\nPrimjer dnevnog rasporeda možete pogledati ovdje.
URL:https://fsspx.hr/dogadaj/ignacijanske-duhovne-vjezbe/
LOCATION:Dvorac Jaidhof\, Jaidhof 1\, Gföhl\, Jaidfof\, Austria
CATEGORIES:Duhovne vježbe/obnova
ATTACH;FMTTYPE=image/webp:https://fsspx.hr/wp-content/uploads/2024/12/Ignacijanske-duh.-vjezbe.webp
END:VEVENT
BEGIN:VEVENT
DTSTART;TZID=Europe/Zagreb:20260322T080000
DTEND;TZID=Europe/Zagreb:20260322T143000
DTSTAMP:20260423T222533
CREATED:20260221T112203Z
LAST-MODIFIED:20260228T145920Z
UID:13990-1774166400-1774189800@fsspx.hr
SUMMARY:Korizmena duhovna obnova - Zagreb (22. 3. 2026.)
DESCRIPTION:
URL:https://fsspx.hr/dogadaj/korizmena-duhovna-obnova-22-3-2026/
LOCATION:Kapela sv. Josipa\, Novačka ulica 317\, Zagreb\, 10040\, Croatia (Local Name: Hrvatska)
CATEGORIES:Duhovne vježbe/obnova
ATTACH;FMTTYPE=image/jpeg:https://fsspx.hr/wp-content/uploads/2026/02/korizmena-duhovna-obnova_plakat.jpeg
END:VEVENT
BEGIN:VEVENT
DTSTART;TZID=Europe/Zagreb:20260308T100000
DTEND;TZID=Europe/Zagreb:20260308T143000
DTSTAMP:20260423T222533
CREATED:20260228T150833Z
LAST-MODIFIED:20260228T150837Z
UID:14078-1772964000-1772980200@fsspx.hr
SUMMARY:Korizmena duhovna obnova - Split (8. 3. 2026.)
DESCRIPTION:
URL:https://fsspx.hr/dogadaj/korizmena-duhovna-obnova-split-8-3-2026/
LOCATION:Kapela sv. Jeronima\, Ulica Zrinsko Frankopanska 58\, Split\, 21000\, Croatia (Local Name: Hrvatska)
CATEGORIES:Duhovne vježbe/obnova
ATTACH;FMTTYPE=image/jpeg:https://fsspx.hr/wp-content/uploads/2026/02/korizmena-duhovna-obnova_plakat-Split.jpeg
END:VEVENT
BEGIN:VEVENT
DTSTART;TZID=Europe/Zagreb:20260307T080000
DTEND;TZID=Europe/Zagreb:20260307T190000
DTSTAMP:20260423T222533
CREATED:20250115T220432Z
LAST-MODIFIED:20260225T195336Z
UID:11069-1772870400-1772910000@fsspx.hr
SUMMARY:Euharistijsko klanjanje (prva subota u mjesecu)
DESCRIPTION:Želimo posebno moliti za naša svećenička zvanja i za potrebe našega apostolata. \n\n\n\nDođite\, poklonimo se Gospodinu!
URL:https://fsspx.hr/dogadaj/euharistijsko-klanjanje/
LOCATION:Kapela sv. Josipa\, Novačka ulica 317\, Zagreb\, 10040\, Croatia (Local Name: Hrvatska)
ATTACH;FMTTYPE=image/jpeg:https://fsspx.hr/wp-content/uploads/2025/01/kapela-Zagreb_klanjanje_Duhovi-e1750110287938.jpg
END:VEVENT
BEGIN:VEVENT
DTSTART;TZID=Europe/Zagreb:20251206T183000
DTEND;TZID=Europe/Zagreb:20251206T193000
DTSTAMP:20260423T222533
CREATED:20251122T105941Z
LAST-MODIFIED:20251122T165321Z
UID:13186-1765045800-1765049400@fsspx.hr
SUMMARY:Sv. Nikola
DESCRIPTION:Nakon blagoslova s Presvetim održat će se priredba i prigodna podjela darova povodom blagdana sv. Nikole. Detaljnije informacije možete pročitati na plakatu.
URL:https://fsspx.hr/dogadaj/sv-nikola/
LOCATION:Kapela sv. Josipa\, Novačka ulica 317\, Zagreb\, 10040\, Croatia (Local Name: Hrvatska)
ATTACH;FMTTYPE=image/jpeg:https://fsspx.hr/wp-content/uploads/2025/11/Snimka-zaslona-2025-11-22-115417.jpg
END:VEVENT
BEGIN:VEVENT
DTSTART;TZID=Europe/Zagreb:20251101T080000
DTEND;TZID=Europe/Zagreb:20251101T120000
DTSTAMP:20260423T222533
CREATED:20251031T114257Z
LAST-MODIFIED:20251031T114306Z
UID:13057-1761984000-1761998400@fsspx.hr
SUMMARY:Svečani blagoslov Kapele sv. Josipa
DESCRIPTION:Svečani blagoslov Kapele sv. Josipa u Zagrebu. Celebrant: p. Johannes Regele\, poglavar Austrijskog distrikta.
URL:https://fsspx.hr/dogadaj/svecani-blagoslov-kapele-sv-josipa/
ATTACH;FMTTYPE=image/jpeg:https://fsspx.hr/wp-content/uploads/2025/10/Blagoslov-kapele-2025-2_page-0001.jpg
END:VEVENT
BEGIN:VEVENT
DTSTART;TZID=Europe/Zagreb:20251011T000000
DTEND;TZID=Europe/Zagreb:20251011T235959
DTSTAMP:20260423T222533
CREATED:20250924T130115Z
LAST-MODIFIED:20251008T211836Z
UID:12927-1760140800-1760227199@fsspx.hr
SUMMARY:Hodočašće u Mariju Bistricu
DESCRIPTION:Prvo službeno hodočašće Svećeničkog bratstva sv. Pija X. u hrvatsko nacionalno svetište Majke Božje Bistričke održat će se u subotu 11. listopada 2025. Program:6:30 – Sv. Misa u kapeli FSSPX-a\, Novačka 317\, Zagreb– nakon sv. Mise kava i zajutrak7:30 – polazak pješice od kapele preko Čučerja\, Planine Donje i Laza Bistričkog do Marije Bistrice. Dvije kraće pauze i jedna dulja za ručak (između 12 i 13 h). Jelo i piće potrebno je ponijeti sa sobom.Dolazak u Mariju Bistricu predviđen je između 15 i 16 h. Nakon dolaska slijedi pobožnost križnog puta na Kalvariji\, a nakon toga pohod bazilici\, obilazak oltara i završni blagoslov. Završetak hodočašća: 17 h
URL:https://fsspx.hr/dogadaj/hodocasce-u-mariju-bistricu/
CATEGORIES:Hodočašće
ATTACH;FMTTYPE=image/jpeg:https://fsspx.hr/wp-content/uploads/2025/09/ResizeImage.jpg
END:VEVENT
BEGIN:VEVENT
DTSTART;TZID=Europe/Zagreb:20250907T000000
DTEND;TZID=Europe/Zagreb:20250907T235959
DTSTAMP:20260423T222533
CREATED:20250831T203217Z
LAST-MODIFIED:20250902T153627Z
UID:12767-1757203200-1757289599@fsspx.hr
SUMMARY:Otvorenje nove kapele Svećenikog bratstva sv. Pija X. u Zagrebu
DESCRIPTION:Svete Mise služit će se u 8:00 i 10:00. Nakon sv. Misa održat će se prigodno druženje uz zakusku.
URL:https://fsspx.hr/dogadaj/otvorenje-nove-kapele-bratstva-sv-pija-x-u-zagrebu/
ATTACH;FMTTYPE=image/jpeg:https://fsspx.hr/wp-content/uploads/2025/08/otvorenje-nove-kapele-e1756817239784.jpg
END:VEVENT
BEGIN:VEVENT
DTSTART;TZID=Europe/Zagreb:20250819T000000
DTEND;TZID=Europe/Zagreb:20250823T235959
DTSTAMP:20260423T222533
CREATED:20241231T154145Z
LAST-MODIFIED:20250107T143825Z
UID:11100-1755561600-1755993599@fsspx.hr
SUMMARY:Hodočašće u Rim - sveta godina (kolovoz 2025.)
DESCRIPTION:Duhovno vodstvo: p. Marko Tilošanec i p. Andrej Vončina.Detaljan program dostupan u kapelama Bratstva u Hrvatskoj i ovdje.
URL:https://fsspx.hr/dogadaj/hodocasce-u-rim-sveta-godina-kolovoz-2025/
LOCATION:Parco del Colle Oppio\, Vle del Monte Oppio\, Rim\, 00184\, Italy
ATTACH;FMTTYPE=image/webp:https://fsspx.hr/wp-content/uploads/2024/12/rome_2000_fsspx.webp
END:VEVENT
BEGIN:VEVENT
DTSTART;TZID=Europe/Zagreb:20250725T170000
DTEND;TZID=Europe/Zagreb:20250726T190000
DTSTAMP:20260423T222533
CREATED:20250712T160135Z
LAST-MODIFIED:20260305T220252Z
UID:12464-1753462800-1753556400@fsspx.hr
SUMMARY:Posjet mladomisnika p. Rumpla (25. - 26. 7. 2025.)
DESCRIPTION:Mladomisnik Austrijskog distrikta p. Klaus Rumpl posjetit će naše kapele u Splitu (25.7.2025.) i Zagrebu (26.7.2025.) te će nakon sv. Misa podijeliti mladomisnički blagoslov. 
URL:https://fsspx.hr/dogadaj/posjet-mladomisnika-p-rumpla-26-7-2025/
ATTACH;FMTTYPE=image/webp:https://fsspx.hr/wp-content/uploads/2025/07/Heimatprimiz_p.-Rumpl2.webp
END:VEVENT
BEGIN:VEVENT
DTSTART;TZID=Europe/Zagreb:20250619T100000
DTEND;TZID=Europe/Zagreb:20250619T120000
DTSTAMP:20260423T222534
CREATED:20241231T153103Z
LAST-MODIFIED:20250601T125342Z
UID:11098-1750327200-1750334400@fsspx.hr
SUMMARY:Tijelovska procesija (19. 6. 2025.)
DESCRIPTION:Nakon sv. Mise u 10 h održat će se procesija s Presvetim i euharistijsko klanjanje.
URL:https://fsspx.hr/dogadaj/tijelovska-procesija-19-6-2025/
LOCATION:Kapela sv. Josipa\, Novačka ulica 317\, Zagreb\, 10040\, Croatia (Local Name: Hrvatska)
ATTACH;FMTTYPE=image/jpeg:https://fsspx.hr/wp-content/uploads/2024/06/Zagreb_2024_11.jpg
END:VEVENT
BEGIN:VEVENT
DTSTART;TZID=Europe/Zagreb:20250406T000000
DTEND;TZID=Europe/Zagreb:20250406T235959
DTSTAMP:20260423T222534
CREATED:20241230T211022Z
LAST-MODIFIED:20250115T220001Z
UID:11088-1743897600-1743983999@fsspx.hr
SUMMARY:Sveta potvrda (6. 4. 2025.)
DESCRIPTION:Biskup mons. Bernard Fellay podijelit će sakrament sv. potvrde u našoj Kapeli sv. Josipa u Zagrebu u 10 h.
URL:https://fsspx.hr/dogadaj/sveta-potvrda/
LOCATION:Kapela sv. Josipa\, Novačka ulica 317\, Zagreb\, 10040\, Croatia (Local Name: Hrvatska)
ATTACH;FMTTYPE=image/jpeg:https://fsspx.hr/wp-content/uploads/2024/12/bierzmowanie-12-3289945464.jpg
END:VEVENT
BEGIN:VEVENT
DTSTART;TZID=Europe/Zagreb:20250111T000000
DTEND;TZID=Europe/Zagreb:20250112T235959
DTSTAMP:20260423T222534
CREATED:20241230T201952Z
LAST-MODIFIED:20241230T211308Z
UID:11078-1736553600-1736726399@fsspx.hr
SUMMARY:Posjet mladomisnika p. Kopacsíja (siječanj 2025.)
DESCRIPTION:Mladomisnik Austrijskog distrikta p. Máté Kopácsi posjetit će naše kapele u Splitu i Zagrebu te će nakon sv. Misa podijeliti mladomisnički blagoslov. Split: subota 11. 1. u 18 h i nedjelja 12. 1. u 10 h. Zagreb: nedjelja 12. 1. u 18 h.
URL:https://fsspx.hr/dogadaj/posjet-mladomisnika-p-kopacsija-sijecanj-2025/
ATTACH;FMTTYPE=image/webp:https://fsspx.hr/wp-content/uploads/2024/09/p.-Kopacsi_Mlada-Misa.webp
END:VEVENT
END:VCALENDAR